BEGIN:VCALENDAR
VERSION:2.0
PRODID:-//KBY - ECPv6.15.16//NONSGML v1.0//EN
CALSCALE:GREGORIAN
METHOD:PUBLISH
X-ORIGINAL-URL:https://kby.weblex.uz
X-WR-CALDESC:Events for KBY
REFRESH-INTERVAL;VALUE=DURATION:PT1H
X-Robots-Tag:noindex
X-PUBLISHED-TTL:PT1H
BEGIN:VTIMEZONE
TZID:UTC
BEGIN:STANDARD
TZOFFSETFROM:+0000
TZOFFSETTO:+0000
TZNAME:UTC
DTSTART:20250101T000000
END:STANDARD
END:VTIMEZONE
BEGIN:VEVENT
DTSTART;TZID=UTC:20260301T110000
DTEND;TZID=UTC:20260301T140000
DTSTAMP:20260419T153111
CREATED:20260213T070527Z
LAST-MODIFIED:20260213T070527Z
UID:10000001-1772362800-1772373600@kby.weblex.uz
SUMMARY:Purim Carnival 2026
DESCRIPTION:🎉 Join Us for a Purim Carnival! 🎉 \n📅 Sunday\, March 1st\n⏰ 11:00 AM – 2:00 PM\n📍 Kings Bay Y\n3495 Nostrand Avenue\, Brooklyn\, NY 11229 \nEnjoy a fun-filled afternoon with: \n🎭 Costume Party 🎨 Arts & Crafts Stations \n🎪 Main Show 🧸 Puppet Show \n🍪 Hamantaschen 🎈 Inflatables \n✨ And so much more! \nFREE ADMISSION \n👉 Don’t forget to RSVP! \nRSVP HERE
URL:https://kby.weblex.uz/event/purim-carnival-2026/
END:VEVENT
END:VCALENDAR